BEGIN:VCALENDAR
VERSION:2.0
PRODID:-//Österreichische Gesellschaft für Kinder- und Jugendpsychiatrie - ECPv6.2.3.2//NONSGML v1.0//EN
CALSCALE:GREGORIAN
METHOD:PUBLISH
X-WR-CALNAME:Österreichische Gesellschaft für Kinder- und Jugendpsychiatrie
X-ORIGINAL-URL:https://oegkjp.at
X-WR-CALDESC:Veranstaltungen für Österreichische Gesellschaft für Kinder- und Jugendpsychiatrie
REFRESH-INTERVAL;VALUE=DURATION:PT1H
X-Robots-Tag:noindex
X-PUBLISHED-TTL:PT1H
BEGIN:VTIMEZONE
TZID:Europe/Berlin
BEGIN:DAYLIGHT
TZOFFSETFROM:+0100
TZOFFSETTO:+0200
TZNAME:CEST
DTSTART:20240331T010000
END:DAYLIGHT
BEGIN:STANDARD
TZOFFSETFROM:+0200
TZOFFSETTO:+0100
TZNAME:CET
DTSTART:20241027T010000
END:STANDARD
END:VTIMEZONE
BEGIN:VEVENT
DTSTART;TZID=Europe/Berlin:20241105T100000
DTEND;TZID=Europe/Berlin:20241105T113000
DTSTAMP:20260421T231855
CREATED:20241010T062132Z
LAST-MODIFIED:20241010T062132Z
UID:16058-1730800800-1730806200@oegkjp.at
SUMMARY:AG Leitende
DESCRIPTION:Sitzung der Arbeitsgruppe der ärztlichen Leiter*innen von kinder- und jugendpsychiatrischen Einrichtungen
URL:https://oegkjp.at/termine/ag-leitende-2/
LOCATION:online
CATEGORIES:Interne Sitzungen
ATTACH;FMTTYPE=image/jpeg:https://oegkjp.at/wp-content/uploads/2023/02/OEGKJP_169.jpg
END:VEVENT
BEGIN:VEVENT
DTSTART;TZID=Europe/Berlin:20241107T080000
DTEND;TZID=Europe/Berlin:20241107T170000
DTSTAMP:20260421T231855
CREATED:20240129T114942Z
LAST-MODIFIED:20240129T114942Z
UID:14901-1730966400-1730998800@oegkjp.at
SUMMARY:AssistentInnen-Fortbildung Kleinkind-Psychiatrie
DESCRIPTION:Die Fortbildung findet am 7. November 2024 als hybride Veranstaltung online via Zoom und vor Ort im JUFA Hotel in Salzburg statt. Thema der Fortbildung ist Kleinkind-Psychiatrie. \n  \nAlle Informationen finden Sie hier: https://oegkjp.at/assistentinnen-tage/
URL:https://oegkjp.at/termine/assistentinnen-fortbildung-kleinkind-psychiatrie/
LOCATION:JUFA Hotel Salzburg City (Josef Preis Allee 18)
CATEGORIES:Veranstaltungen der ÖGKJP
ATTACH;FMTTYPE=image/jpeg:https://oegkjp.at/wp-content/uploads/2023/02/OEGKJP_169.jpg
END:VEVENT
BEGIN:VEVENT
DTSTART;TZID=Europe/Berlin:20241108T120000
DTEND;TZID=Europe/Berlin:20241109T153000
DTSTAMP:20260421T231855
CREATED:20230807T071418Z
LAST-MODIFIED:20241018T071350Z
UID:14115-1731067200-1731166200@oegkjp.at
SUMMARY:CuPsy Modul 4 - Adoleszenz
DESCRIPTION:
URL:https://oegkjp.at/termine/cupsy-modul-4-adoleszenz/
LOCATION:JUFA Hotel Salzburg City (Josef Preis Allee 18)
CATEGORIES:Veranstaltungen der ÖGKJP
ATTACH;FMTTYPE=image/jpeg:https://oegkjp.at/wp-content/uploads/2023/02/OEGKJP_169.jpg
END:VEVENT
BEGIN:VEVENT
DTSTART;TZID=Europe/Berlin:20241112T170000
DTEND;TZID=Europe/Berlin:20241112T190000
DTSTAMP:20260421T231855
CREATED:20241001T075645Z
LAST-MODIFIED:20241001T075654Z
UID:15992-1731430800-1731438000@oegkjp.at
SUMMARY:Vorbereitungsabend für die Facharztprüfung
DESCRIPTION:Der Vorbereitungsabend dient der Vorbereitung auf die Facharztprüfung und dem Austausch zwischen Ärzt:innen\, die bei der kommenden Prüfung antreten werden und Ärzt:innen\, die die Prüfung bereits absolviert haben. \nAlle Informationen zur Veranstaltung finden Sie hier.
URL:https://oegkjp.at/termine/vorbereitungsabend-fuer-die-facharztpruefung/
LOCATION:online
CATEGORIES:Veranstaltungen der ÖGKJP
ATTACH;FMTTYPE=image/jpeg:https://oegkjp.at/wp-content/uploads/2023/02/OEGKJP_169.jpg
END:VEVENT
BEGIN:VEVENT
DTSTART;TZID=Europe/Berlin:20241113T160000
DTEND;TZID=Europe/Berlin:20241113T170000
DTSTAMP:20260421T231855
CREATED:20240904T122034Z
LAST-MODIFIED:20240904T122034Z
UID:15899-1731513600-1731517200@oegkjp.at
SUMMARY:AG Tageskliniken
DESCRIPTION:Treffen der Arbeitsgruppe Tageskliniken der ÖGKJP.
URL:https://oegkjp.at/termine/ag-tageskliniken/
LOCATION:online
CATEGORIES:Interne Sitzungen
ATTACH;FMTTYPE=image/jpeg:https://oegkjp.at/wp-content/uploads/2023/02/OEGKJP_169.jpg
END:VEVENT
BEGIN:VEVENT
DTSTART;TZID=Europe/Berlin:20241115T090000
DTEND;TZID=Europe/Berlin:20241115T170000
DTSTAMP:20260421T231855
CREATED:20230807T070626Z
LAST-MODIFIED:20230807T070626Z
UID:14106-1731661200-1731690000@oegkjp.at
SUMMARY:Curriculum Forensische kinder- und jugendpsychiatrische Gutachten
DESCRIPTION:Das Diplom vermittelt eine umfassende Weiterbildung in der forensischen Begutachtung und der deliktorientierten therapeutischen Arbeit im Fachbereich der Kinder- und Jugendpsychiatrie und Psychotherapeutische Medizin. Ziel ist es\, für diesen Fachbereich Qualitätskriterien darzustellen\, belegbare forensische Kompetenzen zu transportieren und praktische Gutachten durchzuführen.\nDie Ausbildung bietet Wissen in den wesentlichen kinder- und jugendforensischen Bereichen und dient dem Erwerb des ÖÄK zertifizierten Diploms „Forensische kinder- und jugendpsychiatrische Gutachten“. Die Ausbildung wird von den Universitäten für Kinder- und Jugendpsychiatrie der Medizinischen Universität Innsbruck und der Paracelsus Medizinischen Privatuniversität in Zusammenarbeit mit der Österreichischen Gesellschaft für Kinder- und Jugendpsychiatrie\, Psychosomatik und Psychotherapie (ÖGKJP) angeboten. \nThema Tag 10: Psychotraumatologie: \n\nBegutachtung der posttraumatischen Belastungsstörung\, Schmerzensgeld\nKindesmissbrauch\, sexueller Missbrauch\nÄrztegesetz/ Anzeigepflicht\nGA Supervision: Vorstellen eigener Fälle
URL:https://oegkjp.at/termine/curriculum-forensische-kinder-und-jugendpsychiatrische-gutachten-11/
LOCATION:Hall in Tirol
CATEGORIES:Veranstaltungen der ÖGKJP
ATTACH;FMTTYPE=image/jpeg:https://oegkjp.at/wp-content/uploads/2023/01/Forensik.jpg
END:VEVENT
BEGIN:VEVENT
DTSTART;TZID=Europe/Berlin:20241129T110000
DTEND;TZID=Europe/Berlin:20241129T120000
DTSTAMP:20260421T231855
CREATED:20241010T062415Z
LAST-MODIFIED:20241010T062415Z
UID:16060-1732878000-1732881600@oegkjp.at
SUMMARY:AG Forensik
DESCRIPTION:Sitzung der Arbeitsgruppe Forensik
URL:https://oegkjp.at/termine/ag-forensik/
LOCATION:online
CATEGORIES:Interne Sitzungen
ATTACH;FMTTYPE=image/jpeg:https://oegkjp.at/wp-content/uploads/2023/02/OEGKJP_169.jpg
END:VEVENT
BEGIN:VEVENT
DTSTART;TZID=Europe/Berlin:20241129T130000
DTEND;TZID=Europe/Berlin:20241130T150000
DTSTAMP:20260421T231855
CREATED:20231017T124421Z
LAST-MODIFIED:20241021T110617Z
UID:14455-1732885200-1732978800@oegkjp.at
SUMMARY:Wahlseminar Selbsterfahrung/Supervision in der Gruppe
DESCRIPTION:Ort: 1030 Wien\, Am Modenapark 7/10\, bei „Praxis“ läuten \nTermine:\n18 – 19. Oktober 2024\n29- 30. November 2024\n17 – 18. Jänner 2025\n21 – 22. März 2025\n13 -14. Juni 2025\n \nAnwesenheitsarbeitszeiten: Freitag 13:00 – 19:00 Uhr\, Samstag 9:00 – 15:00 Uhr \nKosten: 2.500 € \nMaximale Teilnehmendenzahl: 12 Personen \nAlle Informationen finden Sie hier: https://oegkjp.at/erganzende-psychotherapeutische-ausbildungsangebote/
URL:https://oegkjp.at/termine/wahlseminar-selbsterfahrung-supervision-in-der-gruppe-5/
LOCATION:Praxis\, Am Modenapark 7/10\, bei „Praxis“ läuten\, Wien\, Wien\, 1030
CATEGORIES:Veranstaltungen der ÖGKJP
ATTACH;FMTTYPE=image/png:https://oegkjp.at/wp-content/uploads/2023/08/CuPsy_Wahlseminar2.png
END:VEVENT
END:VCALENDAR