BEGIN:VCALENDAR
VERSION:2.0
PRODID:-//Österreichische Gesellschaft für Kinder- und Jugendpsychiatrie - ECPv6.2.3.2//NONSGML v1.0//EN
CALSCALE:GREGORIAN
METHOD:PUBLISH
X-ORIGINAL-URL:https://oegkjp.at
X-WR-CALDESC:Veranstaltungen für Österreichische Gesellschaft für Kinder- und Jugendpsychiatrie
REFRESH-INTERVAL;VALUE=DURATION:PT1H
X-Robots-Tag:noindex
X-PUBLISHED-TTL:PT1H
BEGIN:VTIMEZONE
TZID:Europe/Berlin
BEGIN:DAYLIGHT
TZOFFSETFROM:+0100
TZOFFSETTO:+0200
TZNAME:CEST
DTSTART:20240331T010000
END:DAYLIGHT
BEGIN:STANDARD
TZOFFSETFROM:+0200
TZOFFSETTO:+0100
TZNAME:CET
DTSTART:20241027T010000
END:STANDARD
END:VTIMEZONE
BEGIN:VEVENT
DTSTART;TZID=Europe/Berlin:20241002T100000
DTEND;TZID=Europe/Berlin:20241002T113000
DTSTAMP:20260422T004949
CREATED:20240612T073851Z
LAST-MODIFIED:20240612T073851Z
UID:15547-1727863200-1727868600@oegkjp.at
SUMMARY:ÖGKJP Vorstandssitzung
DESCRIPTION:
URL:https://oegkjp.at/termine/oegkjp-vorstandssitzung-11/
LOCATION:online
CATEGORIES:Interne Sitzungen
ATTACH;FMTTYPE=image/jpeg:https://oegkjp.at/wp-content/uploads/2023/02/OEGKJP_169.jpg
END:VEVENT
BEGIN:VEVENT
DTSTART;TZID=Europe/Berlin:20241004T150000
DTEND;TZID=Europe/Berlin:20241005T170000
DTSTAMP:20260422T004949
CREATED:20231013T063723Z
LAST-MODIFIED:20240326T100827Z
UID:14416-1728054000-1728147600@oegkjp.at
SUMMARY:Facharztwerkstatt der ÖGKJP
DESCRIPTION:Zeit: Fr 04.10.2023 16.00 Uhr bis Sa 05.10.2023 13.00 mit anschließendem Mittagessen\nThema: Drogen\nOrt: Gersberg 37\, 5020 Salzburg\, Telefonnummer: 0662 641257\nAnmeldung: Direkt im Hotel Gersbergalm \nProgramm: \n\nImpulsreferate zum Thema\nAustausch in Arbeitsgruppen\nGemeinsame Essen und kollegiales Zusammensein\n\nSave the Date
URL:https://oegkjp.at/termine/fa-werkstatt/
LOCATION:Gersbergalm\, Gersberg 37\, Salzburg\, 5020
CATEGORIES:Veranstaltungen der ÖGKJP
ATTACH;FMTTYPE=image/png:https://oegkjp.at/wp-content/uploads/2023/06/geretsbergalm.png
END:VEVENT
BEGIN:VEVENT
DTSTART;TZID=Europe/Berlin:20241018T130000
DTEND;TZID=Europe/Berlin:20241019T150000
DTSTAMP:20260422T004949
CREATED:20231017T124331Z
LAST-MODIFIED:20240219T094545Z
UID:14453-1729256400-1729350000@oegkjp.at
SUMMARY:Wahlseminar Selbsterfahrung/Supervision in der Gruppe
DESCRIPTION:Ort: 1030 Wien\, Am Modenapark 7/10\, bei „Praxis“ läuten \nTermine:\n \n18 – 19. Oktober 2024\n29- 30. November 2024\n24 – 25. Jänner 2025\n14 – 15. März 2025\n13 -14. Juni 2025 \nAnwesenheitsarbeitszeiten: Freitag 13:00 – 19:00 Uhr\, Samstag 9:00 – 15:00 Uhr \nKosten: 2.500 € \nMaximale Teilnehmendenzahl: 12 Personen \nAlle Informationen finden Sie hier: https://oegkjp.at/erganzende-psychotherapeutische-ausbildungsangebote/
URL:https://oegkjp.at/termine/wahlseminar-selbsterfahrung-supervision-in-der-gruppe-4/
LOCATION:Praxis\, Am Modenapark 7/10\, bei „Praxis“ läuten\, Wien\, Wien\, 1030
CATEGORIES:Veranstaltungen der ÖGKJP
ATTACH;FMTTYPE=image/png:https://oegkjp.at/wp-content/uploads/2023/08/CuPsy_Wahlseminar2.png
END:VEVENT
END:VCALENDAR