BEGIN:VCALENDAR
VERSION:2.0
PRODID:-//Österreichische Gesellschaft für Kinder- und Jugendpsychiatrie - ECPv6.2.3.2//NONSGML v1.0//EN
CALSCALE:GREGORIAN
METHOD:PUBLISH
X-WR-CALNAME:Österreichische Gesellschaft für Kinder- und Jugendpsychiatrie
X-ORIGINAL-URL:https://oegkjp.at
X-WR-CALDESC:Veranstaltungen für Österreichische Gesellschaft für Kinder- und Jugendpsychiatrie
REFRESH-INTERVAL;VALUE=DURATION:PT1H
X-Robots-Tag:noindex
X-PUBLISHED-TTL:PT1H
BEGIN:VTIMEZONE
TZID:Europe/Berlin
BEGIN:DAYLIGHT
TZOFFSETFROM:+0100
TZOFFSETTO:+0200
TZNAME:CEST
DTSTART:20240331T010000
END:DAYLIGHT
BEGIN:STANDARD
TZOFFSETFROM:+0200
TZOFFSETTO:+0100
TZNAME:CET
DTSTART:20241027T010000
END:STANDARD
END:VTIMEZONE
BEGIN:VEVENT
DTSTART;TZID=Europe/Berlin:20240202T110000
DTEND;TZID=Europe/Berlin:20240202T120000
DTSTAMP:20260422T131544
CREATED:20240129T121558Z
LAST-MODIFIED:20240129T121558Z
UID:14905-1706871600-1706875200@oegkjp.at
SUMMARY:Sitzung AG Kinderschutz
DESCRIPTION:Erste Sitzung der AG Kinderschutz der ÖGKJP. Online.
URL:https://oegkjp.at/termine/sitzung-ag-kinderschutz/
LOCATION:online
CATEGORIES:Interne Sitzungen
ATTACH;FMTTYPE=image/jpeg:https://oegkjp.at/wp-content/uploads/2023/02/OEGKJP_169.jpg
END:VEVENT
BEGIN:VEVENT
DTSTART;TZID=Europe/Berlin:20240202T120000
DTEND;TZID=Europe/Berlin:20240203T170000
DTSTAMP:20260422T131544
CREATED:20230111T134914Z
LAST-MODIFIED:20240131T084356Z
UID:11736-1706875200-1706979600@oegkjp.at
SUMMARY:CuPsy Modul 6 Behandlungsplanung
DESCRIPTION:
URL:https://oegkjp.at/termine/cupsy-modul-6-behandlungsplanung/
LOCATION:JUFA Hotel Salzburg City (Josef Preis Allee 18)
CATEGORIES:Veranstaltungen der ÖGKJP
ATTACH;FMTTYPE=image/png:https://oegkjp.at/wp-content/uploads/2023/08/CuPsy_Bild_4_klein.png
END:VEVENT
BEGIN:VEVENT
DTSTART;TZID=Europe/Berlin:20240214T100000
DTEND;TZID=Europe/Berlin:20240214T113000
DTSTAMP:20260422T131544
CREATED:20231122T111042Z
LAST-MODIFIED:20231122T111042Z
UID:14658-1707904800-1707910200@oegkjp.at
SUMMARY:ÖGKJP Vorstandssitzung
DESCRIPTION:
URL:https://oegkjp.at/termine/oegkjp-vorstandssitzung-7/
LOCATION:online
CATEGORIES:Interne Sitzungen
ATTACH;FMTTYPE=image/jpeg:https://oegkjp.at/wp-content/uploads/2023/02/OEGKJP_169.jpg
END:VEVENT
BEGIN:VEVENT
DTSTART;TZID=Europe/Berlin:20240223T090000
DTEND;TZID=Europe/Berlin:20240223T170000
DTSTAMP:20260422T131544
CREATED:20230807T070117Z
LAST-MODIFIED:20230807T070117Z
UID:14099-1708678800-1708707600@oegkjp.at
SUMMARY:Curriculum Forensische kinder- und jugendpsychiatrische Gutachten
DESCRIPTION:Das Diplom vermittelt eine umfassende Weiterbildung in der forensischen Begutachtung und der deliktorientierten therapeutischen Arbeit im Fachbereich der Kinder- und Jugendpsychiatrie und Psychotherapeutische Medizin. Ziel ist es\, für diesen Fachbereich Qualitätskriterien darzustellen\, belegbare forensische Kompetenzen zu transportieren und praktische Gutachten durchzuführen.\nDie Ausbildung bietet Wissen in den wesentlichen kinder- und jugendforensischen Bereichen und dient dem Erwerb des ÖÄK zertifizierten Diploms „Forensische kinder- und jugendpsychiatrische Gutachten“. Die Ausbildung wird von den Universitäten für Kinder- und Jugendpsychiatrie der Medizinischen Universität Innsbruck und der Paracelsus Medizinischen Privatuniversität in Zusammenarbeit mit der Österreichischen Gesellschaft für Kinder- und Jugendpsychiatrie\, Psychosomatik und Psychotherapie (ÖGKJP) angeboten.
URL:https://oegkjp.at/termine/curriculum-forensische-kinder-und-jugendpsychiatrische-gutachten-8/
LOCATION:Hall in Tirol
CATEGORIES:Veranstaltungen der ÖGKJP
ATTACH;FMTTYPE=image/jpeg:https://oegkjp.at/wp-content/uploads/2023/01/Forensik.jpg
END:VEVENT
BEGIN:VEVENT
DTSTART;TZID=Europe/Berlin:20240228T100000
DTEND;TZID=Europe/Berlin:20240228T113000
DTSTAMP:20260422T131544
CREATED:20231215T095737Z
LAST-MODIFIED:20240131T084434Z
UID:14757-1709114400-1709119800@oegkjp.at
SUMMARY:Sitzung der AG Leitende
DESCRIPTION:
URL:https://oegkjp.at/termine/ag-leitende/
LOCATION:online
CATEGORIES:Interne Sitzungen
ATTACH;FMTTYPE=image/jpeg:https://oegkjp.at/wp-content/uploads/2023/02/OEGKJP_169.jpg
END:VEVENT
BEGIN:VEVENT
DTSTART;TZID=Europe/Berlin:20240229T180000
DTEND;TZID=Europe/Berlin:20240229T200000
DTSTAMP:20260422T131544
CREATED:20240129T115257Z
LAST-MODIFIED:20240229T164511Z
UID:14903-1709229600-1709236800@oegkjp.at
SUMMARY:KJPP Crossover Webinar Geschichte der Kinder- und Jugendpsychiatrie
DESCRIPTION:Am 29. Februar 2024 findet von 18-20 Uhr ein Webinar zum Thema “Zwischen Fürsorge und Kontrolle: Geschichte der Kinder- und Jugendpsychiatrie”. Die beiden Vorträge sind: \nKinder- und Jugendpsychiatrie im Nationalsozialismus\, Prof. Herwig Czech\nWidersprüchliche Entwicklungen bis zum Sonderfach 2007\, Prof. Ernst Berger \nDas Webinar ist Teil der KJPP Crossover Webinarreihe 2024\, diese besteht aus 3 Webinaren. Die Anmeldung erfolgt für alle drei Termine zusammen hier.Alle Informationen zur Webinarreihe finden Sie hier. \n  \nVideohinweise: \nF. Zawrel –  Erbbiologische und sozial minderwertig (DVD). Mehr Informationen hier.\nMeine liebe Republik (Film über das Leben von F. Zawrel von Elisabeth Scharang). Mehr Informationen hier.
URL:https://oegkjp.at/termine/kjpp-crossover-webinar-2/
LOCATION:online
CATEGORIES:Veranstaltungen der ÖGKJP
ATTACH;FMTTYPE=image/webp:https://oegkjp.at/wp-content/uploads/2022/11/kjpp_Crossover.webp
END:VEVENT
END:VCALENDAR