BEGIN:VCALENDAR
VERSION:2.0
PRODID:-//Österreichische Gesellschaft für Kinder- und Jugendpsychiatrie - ECPv6.2.3.2//NONSGML v1.0//EN
CALSCALE:GREGORIAN
METHOD:PUBLISH
X-WR-CALNAME:Österreichische Gesellschaft für Kinder- und Jugendpsychiatrie
X-ORIGINAL-URL:https://oegkjp.at
X-WR-CALDESC:Veranstaltungen für Österreichische Gesellschaft für Kinder- und Jugendpsychiatrie
REFRESH-INTERVAL;VALUE=DURATION:PT1H
X-Robots-Tag:noindex
X-PUBLISHED-TTL:PT1H
BEGIN:VTIMEZONE
TZID:Europe/Berlin
BEGIN:DAYLIGHT
TZOFFSETFROM:+0100
TZOFFSETTO:+0200
TZNAME:CEST
DTSTART:20230326T010000
END:DAYLIGHT
BEGIN:STANDARD
TZOFFSETFROM:+0200
TZOFFSETTO:+0100
TZNAME:CET
DTSTART:20231029T010000
END:STANDARD
END:VTIMEZONE
BEGIN:VEVENT
DTSTART;TZID=Europe/Berlin:20230418T140000
DTEND;TZID=Europe/Berlin:20230418T153000
DTSTAMP:20260423T035755
CREATED:20230412T104318Z
LAST-MODIFIED:20231017T150334Z
UID:13320-1681826400-1681831800@oegkjp.at
SUMMARY:Sitzung der AG Transitionspsychiatrie
DESCRIPTION:
URL:https://oegkjp.at/termine/sitzung-der-ag-transitionspsychiatrie/
LOCATION:online
CATEGORIES:Interne Sitzungen
ATTACH;FMTTYPE=image/jpeg:https://oegkjp.at/wp-content/uploads/2023/02/OEGKJP_169.jpg
END:VEVENT
BEGIN:VEVENT
DTSTART;TZID=Europe/Berlin:20230421T090000
DTEND;TZID=Europe/Berlin:20230421T170000
DTSTAMP:20260423T035755
CREATED:20230111T143008Z
LAST-MODIFIED:20230111T143008Z
UID:11767-1682067600-1682096400@oegkjp.at
SUMMARY:Curriculum Forensische kinder- und jugendpsychiatrische Gutachten
DESCRIPTION:Das Diplom vermittelt eine umfassende Weiterbildung in der forensischen Begutachtung und der deliktorientierten therapeutischen Arbeit im Fachbereich der Kinder- und Jugendpsychiatrie und Psychotherapeutische Medizin. Ziel ist es\, für diesen Fachbereich Qualitätskriterien darzustellen\, belegbare forensische Kompetenzen zu transportieren und praktische Gutachten durchzuführen.\nDie Ausbildung bietet Wissen in den wesentlichen kinder- und jugendforensischen Bereichen und dient dem Erwerb des ÖÄK zertifizierten Diploms „Forensische kinder- und jugendpsychiatrische Gutachten“. Die Ausbildung wird von den Universitäten für Kinder- und Jugendpsychiatrie der Medizinischen Universität Innsbruck und der Paracelsus Medizinischen Privatuniversität in Zusammenarbeit mit der Österreichischen Gesellschaft für Kinder- und Jugendpsychiatrie\, Psychosomatik und Psychotherapie (ÖGKJP) angeboten.
URL:https://oegkjp.at/termine/curriculum-forensische-kinder-und-jugendpsychiatrische-gutachten-3/
LOCATION:Hall in Tirol
CATEGORIES:Veranstaltungen der ÖGKJP
ATTACH;FMTTYPE=image/jpeg:https://oegkjp.at/wp-content/uploads/2023/01/Forensik.jpg
END:VEVENT
BEGIN:VEVENT
DTSTART;TZID=Europe/Berlin:20230426T110000
DTEND;TZID=Europe/Berlin:20230426T120000
DTSTAMP:20260423T035755
CREATED:20230314T083932Z
LAST-MODIFIED:20230314T083932Z
UID:13161-1682506800-1682510400@oegkjp.at
SUMMARY:ÖGKJP Präsidiumssitzung
DESCRIPTION:
URL:https://oegkjp.at/termine/oegkjp-praesidiumssitzung-3/
LOCATION:online
CATEGORIES:Interne Sitzungen
ATTACH;FMTTYPE=image/jpeg:https://oegkjp.at/wp-content/uploads/2023/02/OEGKJP_169.jpg
END:VEVENT
BEGIN:VEVENT
DTSTART;TZID=Europe/Berlin:20230428T120000
DTEND;TZID=Europe/Berlin:20230429T133000
DTSTAMP:20260423T035755
CREATED:20230111T135228Z
LAST-MODIFIED:20230111T135228Z
UID:11748-1682683200-1682775000@oegkjp.at
SUMMARY:Selbsterfahrung/Balintsupervision in der Gruppe mit Psychodrama
DESCRIPTION:
URL:https://oegkjp.at/termine/selbsterfahrung-balintsupervision-in-der-gruppe-mit-psychodrama-2/
LOCATION:JUFA Hotel Salzburg City (Josef Preis Allee 18)
CATEGORIES:Veranstaltungen der ÖGKJP
END:VEVENT
END:VCALENDAR