BEGIN:VCALENDAR
VERSION:2.0
PRODID:-//Österreichische Gesellschaft für Kinder- und Jugendpsychiatrie - ECPv6.2.3.2//NONSGML v1.0//EN
CALSCALE:GREGORIAN
METHOD:PUBLISH
X-ORIGINAL-URL:https://oegkjp.at
X-WR-CALDESC:Veranstaltungen für Österreichische Gesellschaft für Kinder- und Jugendpsychiatrie
REFRESH-INTERVAL;VALUE=DURATION:PT1H
X-Robots-Tag:noindex
X-PUBLISHED-TTL:PT1H
BEGIN:VTIMEZONE
TZID:Europe/Berlin
BEGIN:DAYLIGHT
TZOFFSETFROM:+0100
TZOFFSETTO:+0200
TZNAME:CEST
DTSTART:20250330T010000
END:DAYLIGHT
BEGIN:STANDARD
TZOFFSETFROM:+0200
TZOFFSETTO:+0100
TZNAME:CET
DTSTART:20251026T010000
END:STANDARD
END:VTIMEZONE
BEGIN:VEVENT
DTSTART;TZID=Europe/Berlin:20251024T090000
DTEND;TZID=Europe/Berlin:20251024T170000
DTSTAMP:20260421T103838
CREATED:20250901T121728Z
LAST-MODIFIED:20250901T121728Z
UID:17631-1761296400-1761325200@oegkjp.at
SUMMARY:Tagung Besondere Momente in der Psychosomatischen Medizin
DESCRIPTION:2. Tagung der österreichischen psychosomatischen Fachgesellschaften\n\n\n\n\n\n\n\n\nAm Freitag\, 24. Oktober 2025\, 9.00 bis 17.00 Uhr \n\n\nBundesministerium für Arbeit\, Soziales\, Gesundheit\, Pflege und Konsumentenschutz\nFestsaal  |  Radetzkystraße 2 | 1030 Wien \n\n\nAlle Informationen finden Sie hier: https://www.medunigraz.at/psychosomatiktagung2025
URL:https://oegkjp.at/termine/tagung-besondere-momente-in-der-psychosomatischen-medizin/
LOCATION:Gesundheitsministerium Wien\, Radetzkystrasse 2\, Wien\, 1030
CATEGORIES:Veranstaltungen der KJP
ATTACH;FMTTYPE=image/webp:https://oegkjp.at/wp-content/uploads/2025/09/pscyhosomatik_Graz.webp
END:VEVENT
END:VCALENDAR