BEGIN:VCALENDAR
VERSION:2.0
PRODID:-//Österreichische Gesellschaft für Kinder- und Jugendpsychiatrie - ECPv6.2.3.2//NONSGML v1.0//EN
CALSCALE:GREGORIAN
METHOD:PUBLISH
X-ORIGINAL-URL:https://oegkjp.at
X-WR-CALDESC:Veranstaltungen für Österreichische Gesellschaft für Kinder- und Jugendpsychiatrie
REFRESH-INTERVAL;VALUE=DURATION:PT1H
X-Robots-Tag:noindex
X-PUBLISHED-TTL:PT1H
BEGIN:VTIMEZONE
TZID:Europe/Berlin
BEGIN:DAYLIGHT
TZOFFSETFROM:+0100
TZOFFSETTO:+0200
TZNAME:CEST
DTSTART:20250330T010000
END:DAYLIGHT
BEGIN:STANDARD
TZOFFSETFROM:+0200
TZOFFSETTO:+0100
TZNAME:CET
DTSTART:20251026T010000
END:STANDARD
END:VTIMEZONE
BEGIN:VEVENT
DTSTART;TZID=Europe/Berlin:20251023T110000
DTEND;TZID=Europe/Berlin:20251023T123000
DTSTAMP:20260421T103838
CREATED:20251009T084615Z
LAST-MODIFIED:20251009T084646Z
UID:17982-1761217200-1761222600@oegkjp.at
SUMMARY:Wissenschaftliche Fortbildungsreihe MedUni Wien Long COVID
DESCRIPTION:Wissenschaftliche Fortbildungsreihe der UK für Kinder- und Jugendpsychiatrie an der MedUni Wien im WS 2025 \n23.10.25 Evidenz und neue Therapieansätze bei Long COVID. Priv.Doz.in DDr.in Lucie Bartova\, Klinische Abteilung für Allgemeine Psychiatrie\, Universitätsklinik für Psychiatrie und Psychotherapie\, MedUni Wien \nAlle Informationen zum Webinar und zur Webinarreihe finden Sie hier.
URL:https://oegkjp.at/termine/wissenschaftliche-fortbildungsreihe-meduni-wien-institut-fuer-psychiatrische-fruehrehabilitation/
LOCATION:online
CATEGORIES:Veranstaltungen der KJP
ATTACH;FMTTYPE=image/jpeg:https://oegkjp.at/wp-content/uploads/2023/02/Med-Uni-Wien-Logo-1349177819_2.jpg
END:VEVENT
END:VCALENDAR