BEGIN:VCALENDAR
VERSION:2.0
PRODID:-//Österreichische Gesellschaft für Kinder- und Jugendpsychiatrie - ECPv6.2.3.2//NONSGML v1.0//EN
CALSCALE:GREGORIAN
METHOD:PUBLISH
X-WR-CALNAME:Österreichische Gesellschaft für Kinder- und Jugendpsychiatrie
X-ORIGINAL-URL:https://oegkjp.at
X-WR-CALDESC:Veranstaltungen für Österreichische Gesellschaft für Kinder- und Jugendpsychiatrie
REFRESH-INTERVAL;VALUE=DURATION:PT1H
X-Robots-Tag:noindex
X-PUBLISHED-TTL:PT1H
BEGIN:VTIMEZONE
TZID:Europe/Berlin
BEGIN:DAYLIGHT
TZOFFSETFROM:+0100
TZOFFSETTO:+0200
TZNAME:CEST
DTSTART:20250330T010000
END:DAYLIGHT
BEGIN:STANDARD
TZOFFSETFROM:+0200
TZOFFSETTO:+0100
TZNAME:CET
DTSTART:20251026T010000
END:STANDARD
END:VTIMEZONE
BEGIN:VEVENT
DTSTART;TZID=Europe/Berlin:20251008T090000
DTEND;TZID=Europe/Berlin:20251010T170000
DTSTAMP:20260419T150346
CREATED:20250507T125053Z
LAST-MODIFIED:20250507T125053Z
UID:16943-1759914000-1760115600@oegkjp.at
SUMMARY:AG Forensik – Prognoseworkshop im Jugendalter
DESCRIPTION:Datum:                             08. – 10. Oktober 2025 \nSeminarort:                     Univ.- Klinik für Kinder- und Jugendpsychiatrie\, Milser Str. 10\, 6060 Hall/ Tirol \nVortragende:                   PD Dr. Marcel Aebi\, Univ.-Prof. Dr.in Kathrin Sevecke \nTeilnahmegebühren:     450€ für ÖGKJP Mitglieder\, 500€ für Nicht-Mitglieder \nAnmeldung:                     über die ÖGKJP Website hier \nInhaltsbeschreibung: Die AG Forensik der ÖGKJP organisiert vom 08. – 10. Oktober 2025 in Hall in Tirol einen Workshop zur Anwendung von Risikoinstrumenten zur Prädiktion von kriminellen Rückfällen (Fokus auf Sexual- und Gewaltdelinquenz). PD Dr. Marcel Aebi gibt dabei einen Einblick in das Thema Prognostik im Jugendalter sowie Risikokommunikation und Univ.-Prof. Dr.in Kathrin Sevecke gibt eine Einführung in die PCL:YV. Der Workshop besteht aus theoretischen Inputs und praktischen Anwendungsbeispielen. Der Workshop richtet sich an Fach- und Assistenzärzt:innen der Kinder- und Jugendpsychiatrie und insbesondere an Teilnehmende des Curriculums kinder- und jugendpsychiatrische Gutachten. \nDie approbierte Fortbildung ist für das Diplom-Fortbildungs-Programm der Österreichischen Ärztekammer anerkannt (28 Einheiten). \nDas Programm finden Sie hier.
URL:https://oegkjp.at/termine/ag-forensik-prognoseworkshop-im-jugendalter/
LOCATION:Hall in Tirol
CATEGORIES:Veranstaltungen der ÖGKJP
ATTACH;FMTTYPE=image/jpeg:https://oegkjp.at/wp-content/uploads/2023/02/OEGKJP_169.jpg
END:VEVENT
BEGIN:VEVENT
DTSTART;TZID=Europe/Berlin:20251008T100000
DTEND;TZID=Europe/Berlin:20251008T113000
DTSTAMP:20260419T150346
CREATED:20241125T143529Z
LAST-MODIFIED:20241125T143529Z
UID:16249-1759917600-1759923000@oegkjp.at
SUMMARY:ÖGKJP Vorstandssitzung
DESCRIPTION:
URL:https://oegkjp.at/termine/oegkjp-vorstandssitzung-17/
LOCATION:online
CATEGORIES:Interne Sitzungen
ATTACH;FMTTYPE=image/jpeg:https://oegkjp.at/wp-content/uploads/2023/02/OEGKJP_169.jpg
END:VEVENT
END:VCALENDAR