BEGIN:VCALENDAR
VERSION:2.0
PRODID:-//Österreichische Gesellschaft für Kinder- und Jugendpsychiatrie - ECPv6.2.3.2//NONSGML v1.0//EN
CALSCALE:GREGORIAN
METHOD:PUBLISH
X-WR-CALNAME:Österreichische Gesellschaft für Kinder- und Jugendpsychiatrie
X-ORIGINAL-URL:https://oegkjp.at
X-WR-CALDESC:Veranstaltungen für Österreichische Gesellschaft für Kinder- und Jugendpsychiatrie
REFRESH-INTERVAL;VALUE=DURATION:PT1H
X-Robots-Tag:noindex
X-PUBLISHED-TTL:PT1H
BEGIN:VTIMEZONE
TZID:Europe/Berlin
BEGIN:DAYLIGHT
TZOFFSETFROM:+0100
TZOFFSETTO:+0200
TZNAME:CEST
DTSTART:20250330T010000
END:DAYLIGHT
BEGIN:STANDARD
TZOFFSETFROM:+0200
TZOFFSETTO:+0100
TZNAME:CET
DTSTART:20251026T010000
END:STANDARD
END:VTIMEZONE
BEGIN:VEVENT
DTSTART;TZID=Europe/Berlin:20250709T120000
DTEND;TZID=Europe/Berlin:20250709T130000
DTSTAMP:20260421T115958
CREATED:20250620T100841Z
LAST-MODIFIED:20250620T100841Z
UID:17265-1752062400-1752066000@oegkjp.at
SUMMARY:Sitzung der AG Kinderschutz
DESCRIPTION:
URL:https://oegkjp.at/termine/sitzung-der-ag-kinderschutz/
LOCATION:online
CATEGORIES:Interne Sitzungen
ATTACH;FMTTYPE=image/jpeg:https://oegkjp.at/wp-content/uploads/2023/02/OEGKJP_169.jpg
END:VEVENT
BEGIN:VEVENT
DTSTART;TZID=Europe/Berlin:20250709T130000
DTEND;TZID=Europe/Berlin:20250709T140000
DTSTAMP:20260421T115958
CREATED:20250603T060033Z
LAST-MODIFIED:20250603T060033Z
UID:17172-1752066000-1752069600@oegkjp.at
SUMMARY:IACAPAP Webinar on Coercive Control - Joining forces for thriving and non-violent future generations
DESCRIPTION:IACAPAP Special Interest Group webinar on Coercive Control – Joining forces for thriving and non-violent future generations \n\nDate: July 9th\, 2025\, Wednesday\nTime: 1 PM CEST | 7 AM EDT | 11:00 AM UTC \nDuration: 45 minutes\nHost cum chairperson: Dr Yewande Oshodi\, IACAPAP Secretary-General\nSpeaker: Dr Marie-Jose van Hoof\, the coordinator of the SIG on Coercive Control\n\nTo register\, please click here. To find out more details\, visit https://iacapap.org/news/special-interest-group-webinar-on-coercive-control.html. \nÖGKJP Mitglieder können am Webinar kostenlos teilnehmen\, da die ÖGKJP Full Member der IACAPAP ist.
URL:https://oegkjp.at/termine/iacapap-webinar-on-coercive-control-joining-forces-for-thriving-and-non-violent-future-generations/
LOCATION:online
CATEGORIES:Veranstaltungen der KJP
ATTACH;FMTTYPE=image/png:https://oegkjp.at/wp-content/uploads/2023/08/IACAPAP_scan.png
END:VEVENT
END:VCALENDAR