BEGIN:VCALENDAR
VERSION:2.0
PRODID:-//Österreichische Gesellschaft für Kinder- und Jugendpsychiatrie - ECPv6.2.3.2//NONSGML v1.0//EN
CALSCALE:GREGORIAN
METHOD:PUBLISH
X-ORIGINAL-URL:https://oegkjp.at
X-WR-CALDESC:Veranstaltungen für Österreichische Gesellschaft für Kinder- und Jugendpsychiatrie
REFRESH-INTERVAL;VALUE=DURATION:PT1H
X-Robots-Tag:noindex
X-PUBLISHED-TTL:PT1H
BEGIN:VTIMEZONE
TZID:Europe/Berlin
BEGIN:DAYLIGHT
TZOFFSETFROM:+0100
TZOFFSETTO:+0200
TZNAME:CEST
DTSTART:20250330T010000
END:DAYLIGHT
BEGIN:STANDARD
TZOFFSETFROM:+0200
TZOFFSETTO:+0100
TZNAME:CET
DTSTART:20251026T010000
END:STANDARD
END:VTIMEZONE
BEGIN:VEVENT
DTSTART;TZID=Europe/Berlin:20250514T090000
DTEND;TZID=Europe/Berlin:20250514T170000
DTSTAMP:20260421T153507
CREATED:20250218T102900Z
LAST-MODIFIED:20250218T102900Z
UID:16632-1747213200-1747242000@oegkjp.at
SUMMARY:Forum Jugend und Psyche
DESCRIPTION:Am 14. Mai findet im Ursulinenhof in Linz von 9-17 Uhr die Fachtagung Forum Jugend und Psyche\, organisiert von Pro Mente Jugend statt. \nAlle Informationen finden Sie hier.
URL:https://oegkjp.at/termine/forum-jugend-und-psyche/
LOCATION:Ursulinenhof\, Landstraße 31\, Linz\, Oberösterreich\, 4020
CATEGORIES:Veranstaltungen der KJP
ATTACH;FMTTYPE=image/jpeg:https://oegkjp.at/wp-content/uploads/2025/02/aviso-neu-jugend_promente.jpg
ORGANIZER;CN="pro mente Ober%C3%B6sterreich":MAILTO:jugend@promenteooe.at
END:VEVENT
END:VCALENDAR