BEGIN:VCALENDAR
VERSION:2.0
PRODID:-//Österreichische Gesellschaft für Kinder- und Jugendpsychiatrie - ECPv6.2.3.2//NONSGML v1.0//EN
CALSCALE:GREGORIAN
METHOD:PUBLISH
X-ORIGINAL-URL:https://oegkjp.at
X-WR-CALDESC:Veranstaltungen für Österreichische Gesellschaft für Kinder- und Jugendpsychiatrie
REFRESH-INTERVAL;VALUE=DURATION:PT1H
X-Robots-Tag:noindex
X-PUBLISHED-TTL:PT1H
BEGIN:VTIMEZONE
TZID:Europe/Berlin
BEGIN:DAYLIGHT
TZOFFSETFROM:+0100
TZOFFSETTO:+0200
TZNAME:CEST
DTSTART:20250330T010000
END:DAYLIGHT
BEGIN:STANDARD
TZOFFSETFROM:+0200
TZOFFSETTO:+0100
TZNAME:CET
DTSTART:20251026T010000
END:STANDARD
END:VTIMEZONE
BEGIN:VEVENT
DTSTART;TZID=Europe/Berlin:20250504T080000
DTEND;TZID=Europe/Berlin:20250506T170000
DTSTAMP:20260421T153441
CREATED:20250305T080543Z
LAST-MODIFIED:20250305T080543Z
UID:16770-1746345600-1746550800@oegkjp.at
SUMMARY:Dreiländertagung Schlaf als Kinderecht
DESCRIPTION:Vom 4.-6. Mai 2025 findet in Wien (Europahaus\, Schloss Miller-Aichholz) die Dreiländertagung Schlaf als Kinderecht\, unter dem Titel Schlaf\, Schlafstörungen und Schlaferkrankungen in der Kinder und Jugendmedizin/-Psychologie. Angewandt & Anwendungsorientiert statt. \n \nIm Rahmen der Fortbildung finden drei Crashkurse statt\, die wieder Name sagt ein schnelles Einsteigen in die Thematik Schlaf ermöglichen: Schlaf Coaching (für Einsteiger)\, Schlafmedizin und Forschung (für Einsteiger)\, und ABC der apparativen Schlafmedizin (für Fortgeschrittene) \, u.a. beim Schlaf Coaching und komplexe chronische Erkrankungen. \nAlle Informationen zur Tagung finden Sie hier: https://cr2s.org/viennaconference
URL:https://oegkjp.at/termine/dreilaendertagung-schlaf-als-kinderecht/
LOCATION:Europahaus\, Schloss Miller-Aichholz\, Wien\, Austria
CATEGORIES:Veranstaltungen der KJP
ATTACH;FMTTYPE=image/png:https://oegkjp.at/wp-content/uploads/2025/03/2024_childright2sleep_logo_CR2S_colourcopy.png
END:VEVENT
END:VCALENDAR