BEGIN:VCALENDAR
VERSION:2.0
PRODID:-//Österreichische Gesellschaft für Kinder- und Jugendpsychiatrie - ECPv6.2.3.2//NONSGML v1.0//EN
CALSCALE:GREGORIAN
METHOD:PUBLISH
X-WR-CALNAME:Österreichische Gesellschaft für Kinder- und Jugendpsychiatrie
X-ORIGINAL-URL:https://oegkjp.at
X-WR-CALDESC:Veranstaltungen für Österreichische Gesellschaft für Kinder- und Jugendpsychiatrie
REFRESH-INTERVAL;VALUE=DURATION:PT1H
X-Robots-Tag:noindex
X-PUBLISHED-TTL:PT1H
BEGIN:VTIMEZONE
TZID:Europe/Berlin
BEGIN:DAYLIGHT
TZOFFSETFROM:+0100
TZOFFSETTO:+0200
TZNAME:CEST
DTSTART:20250330T010000
END:DAYLIGHT
BEGIN:STANDARD
TZOFFSETFROM:+0200
TZOFFSETTO:+0100
TZNAME:CET
DTSTART:20251026T010000
END:STANDARD
END:VTIMEZONE
BEGIN:VEVENT
DTSTART;TZID=Europe/Berlin:20250429T130000
DTEND;TZID=Europe/Berlin:20250429T160000
DTSTAMP:20260421T153313
CREATED:20250220T081457Z
LAST-MODIFIED:20250220T081457Z
UID:16660-1745931600-1745942400@oegkjp.at
SUMMARY:WICAMHD 2025 Symposium
DESCRIPTION:The WICAMHD 2025 Symposium will be held as part of the Turkish Association of Child & Adolescent Psychiatry (TACAP) annual national conference\, the 34th National Congress of Child and Adolescent Mental Health and Illnesses\, from April 29 to May 3\, 2025\, at the Pine Bay Holiday Resort Hotel\, Kusadasi\, Turkiye. The half-day symposium is scheduled for Tuesday\, 29 April 2025. Please find the symposium information below: \n\nDate: Tuesday\, April 29th\, 2025\nTime: 2:00 PM in Istanbul time | 1:00 PM CEST | 11:00 AM UTC | 7:00 AM EDT\nDuration: 3 hours\nVenue: Pine Bay Holiday Resort Hotel\, Kusadasi\, Turkiye\nFormat: Hybrid\nTo register (in person): https://registerpicker.com/motto/wicamhd2025.asp?KONGREid=401\nTo register (virtual): https://us02web.zoom.us/webinar/register/6617399616110/WN_1-NOboOmRuW_4bS9-P5n1g
URL:https://oegkjp.at/termine/wicamhd-2025-symposium/
LOCATION:online
CATEGORIES:Veranstaltungen der KJP
ATTACH;FMTTYPE=image/png:https://oegkjp.at/wp-content/uploads/2023/04/WICAMHD.png
END:VEVENT
END:VCALENDAR