BEGIN:VCALENDAR
VERSION:2.0
PRODID:-//Österreichische Gesellschaft für Kinder- und Jugendpsychiatrie - ECPv6.2.3.2//NONSGML v1.0//EN
CALSCALE:GREGORIAN
METHOD:PUBLISH
X-WR-CALNAME:Österreichische Gesellschaft für Kinder- und Jugendpsychiatrie
X-ORIGINAL-URL:https://oegkjp.at
X-WR-CALDESC:Veranstaltungen für Österreichische Gesellschaft für Kinder- und Jugendpsychiatrie
REFRESH-INTERVAL;VALUE=DURATION:PT1H
X-Robots-Tag:noindex
X-PUBLISHED-TTL:PT1H
BEGIN:VTIMEZONE
TZID:Europe/Berlin
BEGIN:DAYLIGHT
TZOFFSETFROM:+0100
TZOFFSETTO:+0200
TZNAME:CEST
DTSTART:20240331T010000
END:DAYLIGHT
BEGIN:STANDARD
TZOFFSETFROM:+0200
TZOFFSETTO:+0100
TZNAME:CET
DTSTART:20241027T010000
END:STANDARD
END:VTIMEZONE
BEGIN:VEVENT
DTSTART;TZID=Europe/Berlin:20241004T150000
DTEND;TZID=Europe/Berlin:20241005T170000
DTSTAMP:20260422T021828
CREATED:20231013T063723Z
LAST-MODIFIED:20240326T100827Z
UID:14416-1728054000-1728147600@oegkjp.at
SUMMARY:Facharztwerkstatt der ÖGKJP
DESCRIPTION:Zeit: Fr 04.10.2023 16.00 Uhr bis Sa 05.10.2023 13.00 mit anschließendem Mittagessen\nThema: Drogen\nOrt: Gersberg 37\, 5020 Salzburg\, Telefonnummer: 0662 641257\nAnmeldung: Direkt im Hotel Gersbergalm \nProgramm: \n\nImpulsreferate zum Thema\nAustausch in Arbeitsgruppen\nGemeinsame Essen und kollegiales Zusammensein\n\nSave the Date
URL:https://oegkjp.at/termine/fa-werkstatt/
LOCATION:Gersbergalm\, Gersberg 37\, Salzburg\, 5020
CATEGORIES:Veranstaltungen der ÖGKJP
ATTACH;FMTTYPE=image/png:https://oegkjp.at/wp-content/uploads/2023/06/geretsbergalm.png
END:VEVENT
END:VCALENDAR