BEGIN:VCALENDAR
VERSION:2.0
PRODID:-//Österreichische Gesellschaft für Kinder- und Jugendpsychiatrie - ECPv6.2.3.2//NONSGML v1.0//EN
CALSCALE:GREGORIAN
METHOD:PUBLISH
X-WR-CALNAME:Österreichische Gesellschaft für Kinder- und Jugendpsychiatrie
X-ORIGINAL-URL:https://oegkjp.at
X-WR-CALDESC:Veranstaltungen für Österreichische Gesellschaft für Kinder- und Jugendpsychiatrie
REFRESH-INTERVAL;VALUE=DURATION:PT1H
X-Robots-Tag:noindex
X-PUBLISHED-TTL:PT1H
BEGIN:VTIMEZONE
TZID:Europe/Berlin
BEGIN:DAYLIGHT
TZOFFSETFROM:+0100
TZOFFSETTO:+0200
TZNAME:CEST
DTSTART:20240331T010000
END:DAYLIGHT
BEGIN:STANDARD
TZOFFSETFROM:+0200
TZOFFSETTO:+0100
TZNAME:CET
DTSTART:20241027T010000
END:STANDARD
END:VTIMEZONE
BEGIN:VEVENT
DTSTART;TZID=Europe/Berlin:20240417T180000
DTEND;TZID=Europe/Berlin:20240417T200000
DTSTAMP:20260422T114006
CREATED:20240131T084710Z
LAST-MODIFIED:20240201T074957Z
UID:14924-1713376800-1713384000@oegkjp.at
SUMMARY:KJPP Crossover Webinar - Kunst und Psychiatrie
DESCRIPTION:Am 17. April 2024 findet von 18-20 Uhr ein Webinar zum Thema “Kunst und Psychiatrie” mit dem Vortragenden Prof. Johann Feilacher. Das Webinar ist Teil der KJPP Crossover Webinarreihe 2024\, diese besteht aus 3 Webinaren. Die Anmeldung erfolgt für alle drei Termine zusammen hier. \nAlle Informationen zur Webinarreihe finden Sie hier.
URL:https://oegkjp.at/termine/kjpp-crossover-webinar-kunst-und-psychiatrie/
LOCATION:online
CATEGORIES:Veranstaltungen der ÖGKJP
ATTACH;FMTTYPE=image/webp:https://oegkjp.at/wp-content/uploads/2022/11/kjpp_Crossover.webp
END:VEVENT
END:VCALENDAR