BEGIN:VCALENDAR
VERSION:2.0
PRODID:-//Österreichische Gesellschaft für Kinder- und Jugendpsychiatrie - ECPv6.2.3.2//NONSGML v1.0//EN
CALSCALE:GREGORIAN
METHOD:PUBLISH
X-ORIGINAL-URL:https://oegkjp.at
X-WR-CALDESC:Veranstaltungen für Österreichische Gesellschaft für Kinder- und Jugendpsychiatrie
REFRESH-INTERVAL;VALUE=DURATION:PT1H
X-Robots-Tag:noindex
X-PUBLISHED-TTL:PT1H
BEGIN:VTIMEZONE
TZID:Europe/Berlin
BEGIN:DAYLIGHT
TZOFFSETFROM:+0100
TZOFFSETTO:+0200
TZNAME:CEST
DTSTART:20230326T010000
END:DAYLIGHT
BEGIN:STANDARD
TZOFFSETFROM:+0200
TZOFFSETTO:+0100
TZNAME:CET
DTSTART:20231029T010000
END:STANDARD
END:VTIMEZONE
BEGIN:VEVENT
DTSTART;TZID=Europe/Berlin:20231212T180000
DTEND;TZID=Europe/Berlin:20231212T200000
DTSTAMP:20260422T181032
CREATED:20230613T130518Z
LAST-MODIFIED:20230816T063517Z
UID:13801-1702404000-1702411200@oegkjp.at
SUMMARY:KJPP Crossover Webinar Kinderrechte und Kinderschutz in der Kinder- und Jugendpsychiatrie
DESCRIPTION:Kinderrechte und Kinderschutz in der Kinder- und Jugendpsychiatrie \nAusgehend von den Kinderrechten werden wir die Auswirkungen derselben auf die österreichische Gesetzgebung z.B. auf das Kinder und Jugendhilfegesetz u.a. beleuchten. Es wird versucht werden\, die grundsätzliche Logik der Kinderrechte und des daraus resultierenden Kindeswohls auf ihre\, v.a. präventive Bedeutung für den Betrieb jeder Kinder und jugendpsychiatrischen Einrichtung in Österreich zu beleuchten. \nVortragende:\nDSAin Dunja Gharwal\, Kinder- und Jugendanwältin\, Wien\nLeonhard Thun-Hohenstein\, Kinder- und Jugendpsychiater\, Salzburg \n— \nLiebe Kolleginnen und Kollegen\, Sehr geehrte Interessierte! \nWir möchten Sie ganz herzlich zu unserer Veranstaltungsreihe KJPP Crossover 2023 einladen! Auf einfachem Weg können Sie an zwei DFP-zertifizierten\, digital stattfindenden Fortbildungen teilnehmen\, die ein „Crossover“ verschiedener akademischer Fachbereiche darstellen. \nDie Webinare finden von 18.00h bis 20.00h statt. Sie bestehen aus meist mehreren Vorträgen und einer Diskussionsrunde mit Publikum. \nAnmeldung und Kosten: \nIhre Buchung erfolgt für beide Termine hier und der Webinarbeitrag beträgt für ÖGKJP-Mitglieder   € 20\, für Nicht-Mitglieder € 30. Sie erhalten für jedes besuchte Webinar 2 DFP-Punkte verbucht. Teilnehmende\, die für die KJPP Crossover Webinarreihe 2022 angemeldet waren\, werden kostenfrei für die beiden Webinare 2023 angemeldet.
URL:https://oegkjp.at/termine/kjpp-crossover-webinar/
LOCATION:online
CATEGORIES:Veranstaltungen der ÖGKJP
ATTACH;FMTTYPE=image/jpeg:https://oegkjp.at/wp-content/uploads/2023/02/OEGKJP_169.jpg
END:VEVENT
END:VCALENDAR