BEGIN:VCALENDAR
VERSION:2.0
PRODID:-//Österreichische Gesellschaft für Kinder- und Jugendpsychiatrie - ECPv6.2.3.2//NONSGML v1.0//EN
CALSCALE:GREGORIAN
METHOD:PUBLISH
X-ORIGINAL-URL:https://oegkjp.at
X-WR-CALDESC:Veranstaltungen für Österreichische Gesellschaft für Kinder- und Jugendpsychiatrie
REFRESH-INTERVAL;VALUE=DURATION:PT1H
X-Robots-Tag:noindex
X-PUBLISHED-TTL:PT1H
BEGIN:VTIMEZONE
TZID:Europe/Berlin
BEGIN:DAYLIGHT
TZOFFSETFROM:+0100
TZOFFSETTO:+0200
TZNAME:CEST
DTSTART:20230326T010000
END:DAYLIGHT
BEGIN:STANDARD
TZOFFSETFROM:+0200
TZOFFSETTO:+0100
TZNAME:CET
DTSTART:20231029T010000
END:STANDARD
END:VTIMEZONE
BEGIN:VEVENT
DTSTART;TZID=Europe/Berlin:20231106T183000
DTEND;TZID=Europe/Berlin:20231106T203000
DTSTAMP:20260422T190709
CREATED:20230711T070611Z
LAST-MODIFIED:20230816T063430Z
UID:14043-1699295400-1699302600@oegkjp.at
SUMMARY:KJPP Crossover: Psychotherapie des Säuglings- und Kleinkindesalters
DESCRIPTION:Dieses Seminar vermittelt den besonderen psychotherapeutischen Zugang in der frühen Kindheit. Dies wird theoretisch und anhand von kleinen Szenen praktisch skizziert. \nSabine Fiala-Preinsperger: Psychotherapie des Säuglings- und Kleinkindalters im ambulanten Setting\nKatja Götting: Interdisziplinäre stationäre Psychotherapie für Kinder im Alter von 0 – 6 Jahren und ihre Eltern \nDie Buchung erfolgt für beide Termine der Crossoverreihe hier und der Webinarbeitrag beträgt für ÖGKJP-Mitglieder € 20\, für Nicht-Mitglieder € 30. Sie erhalten für jedes besuchte Webinar 2 DFP-Punkte verbucht. Teilnehmende\, die für die KJPP Crossover Webinarreihe 2022 angemeldet waren\, werden kostenfrei für die beiden Webinare 2023 angemeldet. \nAlle Informationen zum Webinar finden Sie hier.
URL:https://oegkjp.at/termine/kjpp-crossover-psychotherapie-des-saeuglings-und-kleinkindesalters/
LOCATION:online
CATEGORIES:Veranstaltungen der ÖGKJP
ATTACH;FMTTYPE=image/jpeg:https://oegkjp.at/wp-content/uploads/2023/02/OEGKJP_169.jpg
END:VEVENT
END:VCALENDAR