BEGIN:VCALENDAR
VERSION:2.0
PRODID:-//Österreichische Gesellschaft für Kinder- und Jugendpsychiatrie - ECPv6.2.3.2//NONSGML v1.0//EN
CALSCALE:GREGORIAN
METHOD:PUBLISH
X-ORIGINAL-URL:https://oegkjp.at
X-WR-CALDESC:Veranstaltungen für Österreichische Gesellschaft für Kinder- und Jugendpsychiatrie
REFRESH-INTERVAL;VALUE=DURATION:PT1H
X-Robots-Tag:noindex
X-PUBLISHED-TTL:PT1H
BEGIN:VTIMEZONE
TZID:Europe/Berlin
BEGIN:DAYLIGHT
TZOFFSETFROM:+0100
TZOFFSETTO:+0200
TZNAME:CEST
DTSTART:20230326T010000
END:DAYLIGHT
BEGIN:STANDARD
TZOFFSETFROM:+0200
TZOFFSETTO:+0100
TZNAME:CET
DTSTART:20231029T010000
END:STANDARD
END:VTIMEZONE
BEGIN:VEVENT
DTSTART;TZID=Europe/Berlin:20231013T130000
DTEND;TZID=Europe/Berlin:20231013T170000
DTSTAMP:20260422T202540
CREATED:20230818T100358Z
LAST-MODIFIED:20230818T100358Z
UID:14206-1697202000-1697216400@oegkjp.at
SUMMARY:CuPsy Modul 1 Einführung
DESCRIPTION:Im Modul „Einführung in die Psychotherapeutische Medizin” wird vom Leiter der Ausbildungskommission der Ablauf des CuPsy und der psychotherapeutischen Ausbildung im Rahmen der FA-Ausbildung erklärt.
URL:https://oegkjp.at/termine/cupsy-modul-1-einfuehrung-2/
LOCATION:JUFA Hotel Salzburg City (Josef Preis Allee 18)
CATEGORIES:Veranstaltungen der ÖGKJP
ATTACH;FMTTYPE=image/png:https://oegkjp.at/wp-content/uploads/2023/01/CuPsy_Bild_3_klein.png
END:VEVENT
END:VCALENDAR