BEGIN:VCALENDAR
VERSION:2.0
PRODID:-//Österreichische Gesellschaft für Kinder- und Jugendpsychiatrie - ECPv6.2.3.2//NONSGML v1.0//EN
CALSCALE:GREGORIAN
METHOD:PUBLISH
X-ORIGINAL-URL:https://oegkjp.at
X-WR-CALDESC:Veranstaltungen für Österreichische Gesellschaft für Kinder- und Jugendpsychiatrie
REFRESH-INTERVAL;VALUE=DURATION:PT1H
X-Robots-Tag:noindex
X-PUBLISHED-TTL:PT1H
BEGIN:VTIMEZONE
TZID:Europe/Berlin
BEGIN:DAYLIGHT
TZOFFSETFROM:+0100
TZOFFSETTO:+0200
TZNAME:CEST
DTSTART:20230326T010000
END:DAYLIGHT
BEGIN:STANDARD
TZOFFSETFROM:+0200
TZOFFSETTO:+0100
TZNAME:CET
DTSTART:20231029T010000
END:STANDARD
END:VTIMEZONE
BEGIN:VEVENT
DTSTART;TZID=Europe/Berlin:20231006T160000
DTEND;TZID=Europe/Berlin:20231007T130000
DTSTAMP:20260422T202508
CREATED:20230111T144511Z
LAST-MODIFIED:20230307T110336Z
UID:11804-1696608000-1696683600@oegkjp.at
SUMMARY:Facharztwerkstatt der ÖGKJP
DESCRIPTION:Am 6.-7. Oktober 2023 findet in der Gersbergalm am Rande von Salzburg der nächste Erfahrungsaustausch der FachärztInnen statt. Es werden relevante Themen über die Zugängen von state of the art\, einer psychodynamische Sichtweise und klinischer Erfahrung miteinander diskutiert und anhand von klinischen Beispielen verdeutlicht. \nDas Thema der Werkstatt wird (wie bei der letzten Werkstatt angedacht) unterschiedliche Aspekte zu Emotionen in der Kinder und Jugendpsychiatrie (biologische Aspekte\, Wut\, Stolz\, Scham\,…) beinhalten.  \nAlle Informationen zur Facharztwerkstatt finden Sie hier: https://oegkjp.at/fa-werkstatt/
URL:https://oegkjp.at/termine/facharztwerkstatt-der-oegkjp/
LOCATION:Geretsbergalm\, Gersberg 37\, 5020 Salzburg
CATEGORIES:Veranstaltungen der ÖGKJP
ATTACH;FMTTYPE=image/jpeg:https://oegkjp.at/wp-content/uploads/2023/01/alm.jpg
END:VEVENT
END:VCALENDAR