BEGIN:VCALENDAR
VERSION:2.0
PRODID:-//Österreichische Gesellschaft für Kinder- und Jugendpsychiatrie - ECPv6.2.3.2//NONSGML v1.0//EN
CALSCALE:GREGORIAN
METHOD:PUBLISH
X-ORIGINAL-URL:https://oegkjp.at
X-WR-CALDESC:Veranstaltungen für Österreichische Gesellschaft für Kinder- und Jugendpsychiatrie
REFRESH-INTERVAL;VALUE=DURATION:PT1H
X-Robots-Tag:noindex
X-PUBLISHED-TTL:PT1H
BEGIN:VTIMEZONE
TZID:Europe/Berlin
BEGIN:DAYLIGHT
TZOFFSETFROM:+0100
TZOFFSETTO:+0200
TZNAME:CEST
DTSTART:20230326T010000
END:DAYLIGHT
BEGIN:STANDARD
TZOFFSETFROM:+0200
TZOFFSETTO:+0100
TZNAME:CET
DTSTART:20231029T010000
END:STANDARD
END:VTIMEZONE
BEGIN:VEVENT
DTSTART;TZID=Europe/Berlin:20230531T093000
DTEND;TZID=Europe/Berlin:20230531T173000
DTSTAMP:20260423T022921
CREATED:20230329T092404Z
LAST-MODIFIED:20230329T092404Z
UID:13282-1685525400-1685554200@oegkjp.at
SUMMARY:AssistentInnen-Fortbildung Substanzbezogene Störungen
DESCRIPTION:AssistentInnen-Fortbildung zum Thema Substanzbezogene Störungen im Kinder- und Jugendalter am 31. Mai 2023 9.00-17.30 Uhr\nAbteilung für Kinder- und Jugendpsychiatrie\, Klinikum Klagenfurt\nGebühr:  EUR 100.-  (EUR 60.- für ÖGKJP-Mitglieder) \nAlle weiteren Informationen lesen Sie hier: https://oegkjp.at/assistentinnen-tage/
URL:https://oegkjp.at/termine/assistentinnen-fortbildung-substanzbezogene-stoerungen/
LOCATION:Alpen-Adria-Universität Klagenfurt
CATEGORIES:Veranstaltungen der ÖGKJP
END:VEVENT
BEGIN:VEVENT
DTSTART;TZID=Europe/Berlin:20230531T190000
DTEND;TZID=Europe/Berlin:20230531T200000
DTSTAMP:20260423T022921
CREATED:20230307T104848Z
LAST-MODIFIED:20230307T104848Z
UID:13079-1685559600-1685563200@oegkjp.at
SUMMARY:ÖGKJP Vorstandssitzung
DESCRIPTION:
URL:https://oegkjp.at/termine/oegkjp-vorstandssitzung-2/
LOCATION:Alpen-Adria-Universität Klagenfurt
CATEGORIES:Interne Sitzungen
ATTACH;FMTTYPE=image/jpeg:https://oegkjp.at/wp-content/uploads/2023/02/OEGKJP_169.jpg
END:VEVENT
END:VCALENDAR