BEGIN:VCALENDAR
VERSION:2.0
PRODID:-//Österreichische Gesellschaft für Kinder- und Jugendpsychiatrie - ECPv6.2.3.2//NONSGML v1.0//EN
CALSCALE:GREGORIAN
METHOD:PUBLISH
X-WR-CALNAME:Österreichische Gesellschaft für Kinder- und Jugendpsychiatrie
X-ORIGINAL-URL:https://oegkjp.at
X-WR-CALDESC:Veranstaltungen für Österreichische Gesellschaft für Kinder- und Jugendpsychiatrie
REFRESH-INTERVAL;VALUE=DURATION:PT1H
X-Robots-Tag:noindex
X-PUBLISHED-TTL:PT1H
BEGIN:VTIMEZONE
TZID:Europe/Berlin
BEGIN:DAYLIGHT
TZOFFSETFROM:+0100
TZOFFSETTO:+0200
TZNAME:CEST
DTSTART:20230326T010000
END:DAYLIGHT
BEGIN:STANDARD
TZOFFSETFROM:+0200
TZOFFSETTO:+0100
TZNAME:CET
DTSTART:20231029T010000
END:STANDARD
END:VTIMEZONE
BEGIN:VEVENT
DTSTART;TZID=Europe/Berlin:20230512T120000
DTEND;TZID=Europe/Berlin:20230513T153000
DTSTAMP:20260423T035756
CREATED:20230307T110120Z
LAST-MODIFIED:20230307T110120Z
UID:13089-1683892800-1683991800@oegkjp.at
SUMMARY:CuPsy Modul 2 Säuglings- und Kleinkindtherapie
DESCRIPTION:CuPsy Modul 2 – “Säuglings- und Kleinkindtherapie“\nBeginn                     12. Mai 2023\, 12:00 Uhr\nEnde                        13. Mai 2023\, 15:30 Uhr\nVortragende           Dr.in Katharina Kruppa\, Dr. Thomas Elstner\nVeranstaltungsort Bewegungsraum – Uniklinikum Salzburg\, Christian-Doppler-Klinik\, UK für   Kinder- und Jugendpsychiatrie Ignaz-Harrer-Str. 79\, 5020 Salzburg\nKosten                     EUR 460\,-  \nInhalt:\n*HelferInnenkonferenzen – wirklich hilfreich?\n* HelferInnenkonferenzen – aus Sicht der Kinder- und Jugendhilfe\,\nKinder- und Jugendpsychiatrie\, Eltern und Kinder/ Jugendlicher\n*Gestaltung\, Er- und Überleben von und in HelferInnenkonferenzen\n* Das Integrieren von Fehlern in Form einer positiven Fehlerkultur\n* Grundlagen & Inhalte der Neuen Autorität\, Haltung\, Sprache und\nandere systemische Werkzeuge\n* Der Umgang mit Eskalation und Aussteigen aus dem System\, sowie\ndas Knüpfen von multiprofessionellen Netzen „wenn alle Stricke reißen“\n(Selbstkontrolle\, Bündnisarbeit)  \nAlle weiteren Informationen hier: https://oegkjp.at/psy-ausbildung/
URL:https://oegkjp.at/termine/cupsy-modul-2-saeuglings-und-kleinkindtherapie/
LOCATION:UK Kinder und Jugendpsychiatrie Salzburg\, Christian-Doppler-Klinik\, 5020 Salzburg
CATEGORIES:Veranstaltungen der ÖGKJP
ATTACH;FMTTYPE=image/jpeg:https://oegkjp.at/wp-content/uploads/2023/02/OEGKJP_169.jpg
END:VEVENT
END:VCALENDAR