BEGIN:VCALENDAR
VERSION:2.0
PRODID:-//Österreichische Gesellschaft für Kinder- und Jugendpsychiatrie - ECPv6.2.3.2//NONSGML v1.0//EN
CALSCALE:GREGORIAN
METHOD:PUBLISH
X-ORIGINAL-URL:https://oegkjp.at
X-WR-CALDESC:Veranstaltungen für Österreichische Gesellschaft für Kinder- und Jugendpsychiatrie
REFRESH-INTERVAL;VALUE=DURATION:PT1H
X-Robots-Tag:noindex
X-PUBLISHED-TTL:PT1H
BEGIN:VTIMEZONE
TZID:Europe/Berlin
BEGIN:DAYLIGHT
TZOFFSETFROM:+0100
TZOFFSETTO:+0200
TZNAME:CEST
DTSTART:20230326T010000
END:DAYLIGHT
BEGIN:STANDARD
TZOFFSETFROM:+0200
TZOFFSETTO:+0100
TZNAME:CET
DTSTART:20231029T010000
END:STANDARD
END:VTIMEZONE
BEGIN:VEVENT
DTSTART;TZID=Europe/Berlin:20230310T120000
DTEND;TZID=Europe/Berlin:20230311T170000
DTSTAMP:20260423T071614
CREATED:20230307T105934Z
LAST-MODIFIED:20230307T105934Z
UID:13087-1678449600-1678554000@oegkjp.at
SUMMARY:CuPsy Modul 5 HelferInnenkonferenzen
DESCRIPTION:CuPsy Modul 5 – “HelferInnenkonferenzen“\nBeginn                    10. März 2023\, 12:00 Uhr\nEnde                        11. März 2023\, 17:00 Uhr\nVortragende           Dr.in Michaela Fried\, DSAin Dorien Popovich\, Stefanie Födinger\nVeranstaltungsort JUFA Hotel Salzburg City\, Josef Preis Allee 18\, 5020 Salzburg\nKosten                     EUR 460\,-  \nInhalt:\nSensibilisierung für die spezifischen Themen der frühen Kindheit. Praktisches Vorgehen bei der psychotherapeutischen Abklärung und Behandlung von Säuglingen und Kleinkindern mit ihren Bezugspersonen. Überblick über Risikofaktoren für interaktionelle und psychische Störungen im frühen Kindesalter.\nPsychotherapeutische Basiskonzepte: aus Bindungstheorie\, Psychoanalyse\, Systemtheorie. Bezugnahme auf den neuropsychologischen Entwicklungsstand der Kinder.\nPsychosoziale Voraussetzungen und Risikofaktoren im Umfeld und ihre Bedeutung für die  psychotherapeutische Arbeit. Netzwerke in der Begleitung von Familien mit Säuglingen \nAlle Weiteren Informationen finden Sie hier: https://oegkjp.at/psy-ausbildung/
URL:https://oegkjp.at/termine/cupsy-modul-5-helferinnenkonferenzen-2/
LOCATION:JUFA Hotel Salzburg City (Josef Preis Allee 18)
CATEGORIES:Veranstaltungen der ÖGKJP
ATTACH;FMTTYPE=image/jpeg:https://oegkjp.at/wp-content/uploads/2023/02/OEGKJP_169.jpg
END:VEVENT
END:VCALENDAR