BEGIN:VCALENDAR
VERSION:2.0
PRODID:-//Österreichische Gesellschaft für Kinder- und Jugendpsychiatrie - ECPv6.2.3.2//NONSGML v1.0//EN
CALSCALE:GREGORIAN
METHOD:PUBLISH
X-WR-CALNAME:Österreichische Gesellschaft für Kinder- und Jugendpsychiatrie
X-ORIGINAL-URL:https://oegkjp.at
X-WR-CALDESC:Veranstaltungen für Österreichische Gesellschaft für Kinder- und Jugendpsychiatrie
REFRESH-INTERVAL;VALUE=DURATION:PT1H
X-Robots-Tag:noindex
X-PUBLISHED-TTL:PT1H
BEGIN:VTIMEZONE
TZID:Europe/Berlin
BEGIN:DAYLIGHT
TZOFFSETFROM:+0100
TZOFFSETTO:+0200
TZNAME:CEST
DTSTART:20230326T010000
END:DAYLIGHT
BEGIN:STANDARD
TZOFFSETFROM:+0200
TZOFFSETTO:+0100
TZNAME:CET
DTSTART:20231029T010000
END:STANDARD
END:VTIMEZONE
BEGIN:VEVENT
DTSTART;TZID=Europe/Berlin:20230203T120000
DTEND;TZID=Europe/Berlin:20230204T133000
DTSTAMP:20260423T084253
CREATED:20230111T135159Z
LAST-MODIFIED:20230111T135159Z
UID:11746-1675425600-1675517400@oegkjp.at
SUMMARY:Selbsterfahrung/Balintsupervision in der Gruppe mit Psychodrama
DESCRIPTION:
URL:https://oegkjp.at/termine/selbsterfahrung-balintsupervision-in-der-gruppe-mit-psychodrama/
LOCATION:JUFA Hotel Salzburg City (Josef Preis Allee 18)
CATEGORIES:Veranstaltungen der ÖGKJP
END:VEVENT
END:VCALENDAR