BEGIN:VCALENDAR
VERSION:2.0
PRODID:-//Österreichische Gesellschaft für Kinder- und Jugendpsychiatrie - ECPv6.2.3.2//NONSGML v1.0//EN
CALSCALE:GREGORIAN
METHOD:PUBLISH
X-ORIGINAL-URL:https://oegkjp.at
X-WR-CALDESC:Veranstaltungen für Österreichische Gesellschaft für Kinder- und Jugendpsychiatrie
REFRESH-INTERVAL;VALUE=DURATION:PT1H
X-Robots-Tag:noindex
X-PUBLISHED-TTL:PT1H
BEGIN:VTIMEZONE
TZID:Europe/Berlin
BEGIN:DAYLIGHT
TZOFFSETFROM:+0100
TZOFFSETTO:+0200
TZNAME:CEST
DTSTART:20230326T010000
END:DAYLIGHT
BEGIN:STANDARD
TZOFFSETFROM:+0200
TZOFFSETTO:+0100
TZNAME:CET
DTSTART:20231029T010000
END:STANDARD
END:VTIMEZONE
BEGIN:VEVENT
DTSTART;TZID=Europe/Berlin:20230125T160000
DTEND;TZID=Europe/Berlin:20230125T170000
DTSTAMP:20260423T102314
CREATED:20230111T143943Z
LAST-MODIFIED:20230111T143943Z
UID:11788-1674662400-1674666000@oegkjp.at
SUMMARY:Netzwerktreffen AG Transitionspsychiatrie
DESCRIPTION:
URL:https://oegkjp.at/termine/netzwerktreffen-ag-transitionspsychiatrie/
LOCATION:online
CATEGORIES:Interne Sitzungen
END:VEVENT
END:VCALENDAR